BEGIN:VCALENDAR
VERSION:2.0
PRODID:-//Internetcafé 55+ Grötzingen - ECPv6.15.20//NONSGML v1.0//EN
CALSCALE:GREGORIAN
METHOD:PUBLISH
X-WR-CALNAME:Internetcafé 55+ Grötzingen
X-ORIGINAL-URL:https://dev.internetcafe-groetzingen.de
X-WR-CALDESC:Veranstaltungen für Internetcafé 55+ Grötzingen
REFRESH-INTERVAL;VALUE=DURATION:PT1H
X-Robots-Tag:noindex
X-PUBLISHED-TTL:PT1H
BEGIN:VTIMEZONE
TZID:Europe/Berlin
BEGIN:DAYLIGHT
TZOFFSETFROM:+0100
TZOFFSETTO:+0200
TZNAME:CEST
DTSTART:20250330T010000
END:DAYLIGHT
BEGIN:STANDARD
TZOFFSETFROM:+0200
TZOFFSETTO:+0100
TZNAME:CET
DTSTART:20251026T010000
END:STANDARD
BEGIN:DAYLIGHT
TZOFFSETFROM:+0100
TZOFFSETTO:+0200
TZNAME:CEST
DTSTART:20260329T010000
END:DAYLIGHT
BEGIN:STANDARD
TZOFFSETFROM:+0200
TZOFFSETTO:+0100
TZNAME:CET
DTSTART:20261025T010000
END:STANDARD
BEGIN:DAYLIGHT
TZOFFSETFROM:+0100
TZOFFSETTO:+0200
TZNAME:CEST
DTSTART:20270328T010000
END:DAYLIGHT
BEGIN:STANDARD
TZOFFSETFROM:+0200
TZOFFSETTO:+0100
TZNAME:CET
DTSTART:20271031T010000
END:STANDARD
END:VTIMEZONE
BEGIN:VEVENT
DTSTART;TZID=Europe/Berlin:20260507T150000
DTEND;TZID=Europe/Berlin:20260507T170000
DTSTAMP:20260420T205702
CREATED:20260322T131303Z
LAST-MODIFIED:20260322T152841Z
UID:233-1778166000-1778173200@dev.internetcafe-groetzingen.de
SUMMARY:Internetcafé
DESCRIPTION:
URL:https://dev.internetcafe-groetzingen.de/event/internetcafe-2/
LOCATION:Internetcafé Grötzingen\, Begegnungsstätte Grötzingen\, Karlsruhe\, 76229\, Germany
CATEGORIES:Beratung
ORGANIZER;CN="Internetcaf%C3%A9 Gr%C3%B6tzingen":MAILTO:team@internetcafe-groetzingen.de
END:VEVENT
BEGIN:VEVENT
DTSTART;VALUE=DATE:20260514
DTEND;VALUE=DATE:20260515
DTSTAMP:20260420T205702
CREATED:20260322T150926Z
LAST-MODIFIED:20260322T154048Z
UID:269-1778716800-1778803199@dev.internetcafe-groetzingen.de
SUMMARY:Christi Himmelfahrt
DESCRIPTION:
URL:https://dev.internetcafe-groetzingen.de/event/christi-himmelfahrt/
CATEGORIES:Feiertag
END:VEVENT
BEGIN:VEVENT
DTSTART;TZID=Europe/Berlin:20260521T150000
DTEND;TZID=Europe/Berlin:20260521T170000
DTSTAMP:20260420T205702
CREATED:20260322T131303Z
LAST-MODIFIED:20260322T152841Z
UID:235-1779375600-1779382800@dev.internetcafe-groetzingen.de
SUMMARY:Internetcafé
DESCRIPTION:
URL:https://dev.internetcafe-groetzingen.de/event/internetcafe-4/
LOCATION:Internetcafé Grötzingen\, Begegnungsstätte Grötzingen\, Karlsruhe\, 76229\, Germany
CATEGORIES:Beratung
ORGANIZER;CN="Internetcaf%C3%A9 Gr%C3%B6tzingen":MAILTO:team@internetcafe-groetzingen.de
END:VEVENT
BEGIN:VEVENT
DTSTART;TZID=Europe/Berlin:20260528T150000
DTEND;TZID=Europe/Berlin:20260528T170000
DTSTAMP:20260420T205702
CREATED:20260322T131303Z
LAST-MODIFIED:20260322T152841Z
UID:236-1779980400-1779987600@dev.internetcafe-groetzingen.de
SUMMARY:Internetcafé
DESCRIPTION:
URL:https://dev.internetcafe-groetzingen.de/event/internetcafe-5/
LOCATION:Internetcafé Grötzingen\, Begegnungsstätte Grötzingen\, Karlsruhe\, 76229\, Germany
CATEGORIES:Beratung
ORGANIZER;CN="Internetcaf%C3%A9 Gr%C3%B6tzingen":MAILTO:team@internetcafe-groetzingen.de
END:VEVENT
END:VCALENDAR